BEGIN:VCALENDAR
VERSION:2.0
PRODID:spatie/icalendar-generator
NAME:ÅNIKAP rf - Sjökaptenerna från Åbo Navigationsinstitut r.f.
X-WR-CALNAME:ÅNIKAP rf - Sjökaptenerna från Åbo Navigationsinstitut r.f
 .
DESCRIPTION:Events for ÅNIKAP rf - Sjökaptenerna från Åbo Navigationsin
 stitut r.f.
X-WR-CALDESC:Events for ÅNIKAP rf - Sjökaptenerna från Åbo Navigationsi
 nstitut r.f.
BEGIN:VEVENT
UID:367-1779487200-1779573540@xn--nikap-lra.fi
SUMMARY:Ånikap Vårkryssning 23.5
DESCRIPTION:Följ med på en härlig picknick-dagskryssning den 23.5. – 
 Ånikap bjuder in till en rolig dag till sjöss!
URL:https://xn--nikap-lra.fi/event/anikap-varkryssning-23-5/
DTSTART:20260523
DTEND:20260523
DTSTAMP:20260421T190701Z
END:VEVENT
END:VCALENDAR